BEGIN:VCALENDAR
VERSION:2.0
PRODID:-//ChamberMaster//Event Calendar 2.0//EN
METHOD:PUBLISH
X-PUBLISHED-TTL:P3D
REFRESH-INTERVAL:P3D
CALSCALE:GREGORIAN
BEGIN:VEVENT
DTSTART:20170718T230000Z
DTEND:20170719T035500Z
X-MICROSOFT-CDO-ALLDAYEVENT:FALSE
SUMMARY:Movie Night at Wild Hog Saloon
DESCRIPTION:Everyone is invited to Movie Night at the Wild Hog Saloon. Doors open at 6:15pm movie starts at 7:00pm.\n\n \n\nFor more information or to put in your own request for an upcoming movie that you'd love to see on the big screen\, contact Dr. Leslie Chin at 870-572-3408 or email him at idrchin@gmail.com.\n\n \n\nThis week's movie: Founder\n\nSynopsis: --   The true story of how Ray Kroc (Michael Keaton)\, a salesman from Illinois\, met Mac and Dick McDonald\, who were running a burger operation in 1950s Southern California. Kroc was impressed by the brothers' speedy system of making the food and saw franchise potential. He maneuvered himself into a position to be able to pull the company from the brothers and create a billion-dollar empire.
X-ALT-DESC;FMTTYPE=text/html:<p style="margin: 0px\; padding: 0px\; border: 0px\; outline: 0px\; font-size: 15px\; vertical-align: baseline\; background-image: initial\; background-position: initial\; background-size: initial\; background-repeat: initial\; background-attachment: initial\; background-origin: initial\; background-clip: initial\; color: rgb(0\, 0\, 0)\; font-family: Arial\, Helvetica\, sans-serif\;">Everyone is invited to Movie Night at the Wild Hog Saloon.&nbsp\;Doors open at 6:15pm movie starts at 7:00pm.</p>\n\n<p style="margin: 0px\; padding: 0px\; border: 0px\; outline: 0px\; font-size: 15px\; vertical-align: baseline\; background-image: initial\; background-position: initial\; background-size: initial\; background-repeat: initial\; background-attachment: initial\; background-origin: initial\; background-clip: initial\; color: rgb(0\, 0\, 0)\; font-family: Arial\, Helvetica\, sans-serif\;">&nbsp\;</p>\n\n<p style="margin: 0px\; padding: 0px\; border: 0px\; outline: 0px\; font-size: 15px\; vertical-align: baseline\; background-image: initial\; background-position: initial\; background-size: initial\; background-repeat: initial\; background-attachment: initial\; background-origin: initial\; background-clip: initial\; color: rgb(0\, 0\, 0)\; font-family: Arial\, Helvetica\, sans-serif\;">For more information or to put in your own request for an upcoming movie that you&rsquo\;d love to see on the big screen\, contact Dr. Leslie Chin at 870-572-3408 or email him at&nbsp\;<a href="mailto:idrchin@gmail.com" style="margin: 0px\; padding: 0px\; vertical-align: baseline\; background: transparent\; color: rgb(0\, 51\, 255)\; -webkit-tap-highlight-color: rgb(252\, 215\, 0)\;">idrchin@gmail.com</a>.</p>\n\n<p style="margin: 0px\; padding: 0px\; border: 0px\; outline: 0px\; font-size: 15px\; vertical-align: baseline\; background-image: initial\; background-position: initial\; background-size: initial\; background-repeat: initial\; background-attachment: initial\; background-origin: initial\; background-clip: initial\; color: rgb(0\, 0\, 0)\; font-family: Arial\, Helvetica\, sans-serif\;">&nbsp\;</p>\n\n<p style="margin: 0px\; padding: 0px\; border: 0px\; outline: 0px\; font-size: 15px\; vertical-align: baseline\; background-image: initial\; background-position: initial\; background-size: initial\; background-repeat: initial\; background-attachment: initial\; background-origin: initial\; background-clip: initial\; color: rgb(0\, 0\, 0)\; font-family: Arial\, Helvetica\, sans-serif\;"><strong style="margin: 0px\; padding: 0px\; border: 0px\; outline: 0px\; vertical-align: baseline\; background: transparent\;">This week&rsquo\;s movie: Founder</strong></p>\n\n<p style="margin: 0px\; padding: 0px\; border: 0px\; outline: 0px\; font-size: 15px\; vertical-align: baseline\; background-image: initial\; background-position: initial\; background-size: initial\; background-repeat: initial\; background-attachment: initial\; background-origin: initial\; background-clip: initial\; color: rgb(0\, 0\, 0)\; font-family: Arial\, Helvetica\, sans-serif\;"><strong style="margin: 0px\; padding: 0px\; border: 0px\; outline: 0px\; vertical-align: baseline\; background: transparent\;">Synopsis:&nbsp\;</strong>-- &nbsp\; The true story of how Ray Kroc (Michael Keaton)\, a salesman from Illinois\, met Mac and Dick McDonald\, who were running a burger operation in 1950s Southern California. Kroc was impressed by the brothers&#39\; speedy system of making the food and saw franchise potential. He maneuvered himself into a position to be able to pull the company from the brothers and create a billion-dollar empire.</p>\n
LOCATION:Wild Hog Saloon
UID:e.2678.28
SEQUENCE:3
DTSTAMP:20260421T131943Z
URL:https://business.phillipscountychamber.org/events/details/movie-night-at-wild-hog-saloon-28
END:VEVENT

END:VCALENDAR
