BEGIN:VCALENDAR
VERSION:2.0
PRODID:-//ChamberMaster//Event Calendar 2.0//EN
METHOD:PUBLISH
X-PUBLISHED-TTL:P3D
REFRESH-INTERVAL:P3D
CALSCALE:GREGORIAN
BEGIN:VEVENT
DTSTART:20170725T230000Z
DTEND:20170726T035500Z
X-MICROSOFT-CDO-ALLDAYEVENT:FALSE
SUMMARY:Movie Night at Wild Hog Saloon
DESCRIPTION:Everyone is invited to Movie Night at the Wild Hog Saloon. Doors open at 6:15pm movie starts at 7:00pm.\n\n \n\nFor more information or to put in your own request for an upcoming movie that you'd love to see on the big screen\, contact Dr. Leslie Chin at 870-572-3408 or email him at idrchin@gmail.com.\n\n \n\n \n\nThis week's movie: Last Word\n\nSynopsis: --   -  Shirley MacLaine is Harriet Lauler\, a once successful businesswoman in tight control of every aspect of her life. As she reflects upon her accomplishments\, she's suddenly inspired to engage a young local writer\, Anne Sherman (Amanda Seyfried)\, to pen her life's story. When the initial result doesn't meet Harriet's high expectations\, she sets out to reshape the way she is remembered\, with Anne dragged along as an unwilling accomplice. As the journey unfolds\, the two women develop a unique bond which alters not only Harriet's legacy\, but also Anne's future.
X-ALT-DESC;FMTTYPE=text/html:<p style="margin: 0px\; padding: 0px\; border: 0px\; outline: 0px\; font-size: 15px\; vertical-align: baseline\; background-image: initial\; background-position: initial\; background-size: initial\; background-repeat: initial\; background-attachment: initial\; background-origin: initial\; background-clip: initial\; color: rgb(0\, 0\, 0)\; font-family: Arial\, Helvetica\, sans-serif\;">Everyone is invited to Movie Night at the Wild Hog Saloon.&nbsp\;Doors open at 6:15pm movie starts at 7:00pm.</p>\n\n<p style="margin: 0px\; padding: 0px\; border: 0px\; outline: 0px\; font-size: 15px\; vertical-align: baseline\; background-image: initial\; background-position: initial\; background-size: initial\; background-repeat: initial\; background-attachment: initial\; background-origin: initial\; background-clip: initial\; color: rgb(0\, 0\, 0)\; font-family: Arial\, Helvetica\, sans-serif\;">&nbsp\;</p>\n\n<p style="margin: 0px\; padding: 0px\; border: 0px\; outline: 0px\; font-size: 15px\; vertical-align: baseline\; background-image: initial\; background-position: initial\; background-size: initial\; background-repeat: initial\; background-attachment: initial\; background-origin: initial\; background-clip: initial\; color: rgb(0\, 0\, 0)\; font-family: Arial\, Helvetica\, sans-serif\;">For more information or to put in your own request for an upcoming movie that you&rsquo\;d love to see on the big screen\, contact Dr. Leslie Chin at 870-572-3408 or email him at&nbsp\;<a href="mailto:idrchin@gmail.com" style="margin: 0px\; padding: 0px\; vertical-align: baseline\; background: transparent\; color: rgb(0\, 51\, 255)\; -webkit-tap-highlight-color: rgb(252\, 215\, 0)\;">idrchin@gmail.com</a>.</p>\n\n<p style="margin: 0px\; padding: 0px\; border: 0px\; outline: 0px\; font-size: 15px\; vertical-align: baseline\; background-image: initial\; background-position: initial\; background-size: initial\; background-repeat: initial\; background-attachment: initial\; background-origin: initial\; background-clip: initial\; color: rgb(0\, 0\, 0)\; font-family: Arial\, Helvetica\, sans-serif\;">&nbsp\;</p>\n\n<p style="margin: 0px\; padding: 0px\; border: 0px\; outline: 0px\; font-size: 15px\; vertical-align: baseline\; background-image: initial\; background-position: initial\; background-size: initial\; background-repeat: initial\; background-attachment: initial\; background-origin: initial\; background-clip: initial\; color: rgb(0\, 0\, 0)\; font-family: Arial\, Helvetica\, sans-serif\;">&nbsp\;</p>\n\n<p style="margin: 0px\; padding: 0px\; border: 0px\; outline: 0px\; font-size: 15px\; vertical-align: baseline\; background-image: initial\; background-position: initial\; background-size: initial\; background-repeat: initial\; background-attachment: initial\; background-origin: initial\; background-clip: initial\; color: rgb(0\, 0\, 0)\; font-family: Arial\, Helvetica\, sans-serif\;"><strong style="margin: 0px\; padding: 0px\; border: 0px\; outline: 0px\; vertical-align: baseline\; background: transparent\;">This week&rsquo\;s movie:&nbsp\;</strong><strong style="margin: 0px\; padding: 0px\; border: 0px\; outline: 0px\; vertical-align: baseline\; background: transparent\;">Last Word</strong></p>\n\n<p style="margin: 0px\; padding: 0px\; border: 0px\; outline: 0px\; font-size: 15px\; vertical-align: baseline\; background-image: initial\; background-position: initial\; background-size: initial\; background-repeat: initial\; background-attachment: initial\; background-origin: initial\; background-clip: initial\; color: rgb(0\, 0\, 0)\; font-family: Arial\, Helvetica\, sans-serif\;"><strong style="margin: 0px\; padding: 0px\; border: 0px\; outline: 0px\; vertical-align: baseline\; background: transparent\;">Synopsis:&nbsp\;</strong>-- &nbsp\;&nbsp\;-&nbsp\; Shirley MacLaine is Harriet Lauler\, a once successful businesswoman in tight control of every aspect of her life. As she reflects upon her accomplishments\, she&#39\;s suddenly inspired to engage a young local writer\, Anne Sherman (Amanda Seyfried)\, to pen her life&#39\;s story. When the initial result doesn&#39\;t meet Harriet&#39\;s high expectations\, she sets out to reshape the way she is remembered\, with Anne dragged along as an unwilling accomplice. As the journey unfolds\, the two women develop a unique bond which alters not only Harriet&#39\;s legacy\, but also Anne&#39\;s future.</p>\n
LOCATION:Wild Hog Saloon
UID:e.2678.29
SEQUENCE:3
DTSTAMP:20260421T131939Z
URL:https://business.phillipscountychamber.org/events/details/movie-night-at-wild-hog-saloon-29
END:VEVENT

END:VCALENDAR
