BEGIN:VCALENDAR
VERSION:2.0
PRODID:-//ChamberMaster//Event Calendar 2.0//EN
METHOD:PUBLISH
X-PUBLISHED-TTL:P3D
REFRESH-INTERVAL:P3D
CALSCALE:GREGORIAN
BEGIN:VEVENT
DTSTART:20170801T230000Z
DTEND:20170802T035500Z
X-MICROSOFT-CDO-ALLDAYEVENT:FALSE
SUMMARY:Movie Night at Wild Hog Saloon
DESCRIPTION:Everyone is invited to Movie Night at the Wild Hog Saloon. Doors open at 6:15pm movie starts at 7:00pm.\n\n \n\nFor more information or to put in your own request for an upcoming movie that you'd love to see on the big screen\n\n \n\n \n\n \n\nThis week's movie: The Assignment \n\nSynopsis: --   - Legendary director Walter Hill (The Warriors) gives the revenge film a modern neo-noir twist with this electrifying thriller. Hitman Frank Kitchen (Michelle Rodriguez) is given a lethal assignment\, but after being double-crossed\, he discovers he's not the man he thought he was-he's been surgically altered and now has the body of a woman. Seeking vengeance\, Frank heads for a showdown with the person (Sigourney Weaver) who transformed him\, a brilliant surgeon with a chilling agenda of her own.
X-ALT-DESC;FMTTYPE=text/html:<p style="margin: 0px\; padding: 0px\; border: 0px\; outline: 0px\; font-size: 15px\; vertical-align: baseline\; background-image: initial\; background-position: initial\; background-size: initial\; background-repeat: initial\; background-attachment: initial\; background-origin: initial\; background-clip: initial\; color: rgb(0\, 0\, 0)\; font-family: Arial\, Helvetica\, sans-serif\;">Everyone is invited to Movie Night at the Wild Hog Saloon.&nbsp\;Doors open at 6:15pm movie starts at 7:00pm.</p>\n\n<p style="margin: 0px\; padding: 0px\; border: 0px\; outline: 0px\; font-size: 15px\; vertical-align: baseline\; background-image: initial\; background-position: initial\; background-size: initial\; background-repeat: initial\; background-attachment: initial\; background-origin: initial\; background-clip: initial\; color: rgb(0\, 0\, 0)\; font-family: Arial\, Helvetica\, sans-serif\;">&nbsp\;</p>\n\n<p style="margin: 0px\; padding: 0px\; border: 0px\; outline: 0px\; font-size: 15px\; vertical-align: baseline\; background-image: initial\; background-position: initial\; background-size: initial\; background-repeat: initial\; background-attachment: initial\; background-origin: initial\; background-clip: initial\; color: rgb(0\, 0\, 0)\; font-family: Arial\, Helvetica\, sans-serif\;">For more information or to put in your own request for an upcoming movie that you&rsquo\;d love to see on the big screen</p>\n\n<p style="margin: 0px\; padding: 0px\; border: 0px\; outline: 0px\; font-size: 15px\; vertical-align: baseline\; background-image: initial\; background-position: initial\; background-size: initial\; background-repeat: initial\; background-attachment: initial\; background-origin: initial\; background-clip: initial\; color: rgb(0\, 0\, 0)\; font-family: Arial\, Helvetica\, sans-serif\;">&nbsp\;</p>\n\n<p style="margin: 0px\; padding: 0px\; border: 0px\; outline: 0px\; font-size: 15px\; vertical-align: baseline\; background-image: initial\; background-position: initial\; background-size: initial\; background-repeat: initial\; background-attachment: initial\; background-origin: initial\; background-clip: initial\; color: rgb(0\, 0\, 0)\; font-family: Arial\, Helvetica\, sans-serif\;">&nbsp\;</p>\n\n<p style="margin: 0px\; padding: 0px\; border: 0px\; outline: 0px\; font-size: 15px\; vertical-align: baseline\; background-image: initial\; background-position: initial\; background-size: initial\; background-repeat: initial\; background-attachment: initial\; background-origin: initial\; background-clip: initial\; color: rgb(0\, 0\, 0)\; font-family: Arial\, Helvetica\, sans-serif\;">&nbsp\;</p>\n\n<p style="margin: 0px\; padding: 0px\; border: 0px\; outline: 0px\; font-size: 15px\; vertical-align: baseline\; background-image: initial\; background-position: initial\; background-size: initial\; background-repeat: initial\; background-attachment: initial\; background-origin: initial\; background-clip: initial\; color: rgb(0\, 0\, 0)\; font-family: Arial\, Helvetica\, sans-serif\;"><strong style="margin: 0px\; padding: 0px\; border: 0px\; outline: 0px\; vertical-align: baseline\; background: transparent\;">This week&rsquo\;s movie:&nbsp\;</strong><strong style="margin: 0px\; padding: 0px\; border: 0px\; outline: 0px\; vertical-align: baseline\; background: transparent\;">The Assignment&nbsp\;</strong></p>\n\n<p style="margin: 0px\; padding: 0px\; border: 0px\; outline: 0px\; font-size: 15px\; vertical-align: baseline\; background-image: initial\; background-position: initial\; background-size: initial\; background-repeat: initial\; background-attachment: initial\; background-origin: initial\; background-clip: initial\; color: rgb(0\, 0\, 0)\; font-family: Arial\, Helvetica\, sans-serif\;"><strong style="margin: 0px\; padding: 0px\; border: 0px\; outline: 0px\; vertical-align: baseline\; background: transparent\;">Synopsis:&nbsp\;</strong>-- &nbsp\;&nbsp\;- Legendary director Walter Hill (The Warriors) gives the revenge film a modern neo-noir twist with this electrifying thriller. Hitman Frank Kitchen (Michelle Rodriguez) is given a lethal assignment\, but after being double-crossed\, he discovers he&#39\;s not the man he thought he was-he&#39\;s been surgically altered and now has the body of a woman. Seeking vengeance\, Frank heads for a showdown with the person (Sigourney Weaver) who transformed him\, a brilliant surgeon with a chilling agenda of her own.</p>\n
LOCATION:Wild Hog Saloon
UID:e.2678.30
SEQUENCE:3
DTSTAMP:20260421T131938Z
URL:https://business.phillipscountychamber.org/events/details/movie-night-at-wild-hog-saloon-30
END:VEVENT

END:VCALENDAR
