BEGIN:VCALENDAR
VERSION:2.0
PRODID:-//ChamberMaster//Event Calendar 2.0//EN
METHOD:PUBLISH
X-PUBLISHED-TTL:P3D
REFRESH-INTERVAL:P3D
CALSCALE:GREGORIAN
BEGIN:VEVENT
DTSTART:20170927T000000Z
DTEND:20170927T030000Z
X-MICROSOFT-CDO-ALLDAYEVENT:FALSE
SUMMARY:Movie Night at Wild Hog Saloon
DESCRIPTION:The Zookeepers Wife -The real-life story of one working wife and mother who became a hero to hundreds during World War II. In 1939 Poland\, Antonina  abi ska (portrayed by two-time Academy Award nominee Jessica Chastain) and her husband\, Dr. Jan  abi ski (Johan Heldenbergh)\, have the Warsaw Zoo flourishing under his stewardship and her care. When their country is invaded by the Nazis\, Jan and Antonina are stunned   and forced to report to the Reich's newly appointed chief zoologist\, Lutz Heck (Daniel Br hl). To fight back on their own terms\, Antonina and Jan covertly begin working with the Resistance   and put into action plans to save lives out of what has become the Warsaw Ghetto\, with Antonina putting herself and even her children at great risk. https://www.youtube.com/watch?v=eiEfrA6MWs4
X-ALT-DESC;FMTTYPE=text/html:<strong><span style="color:red\;"><span style="font-family:arial\,sans-serif\;">The Zookeepers Wife </span></span></strong><span style="color:black\;"><span style="font-family:arial\,sans-serif\;"><span style="font-size:10.0pt\;">-</span></span></span><strong><span style="color:#525252\;"><span style="font-family:arial\,sans-serif\;">The real-life story of one working wife and mother who became a hero to hundreds during World War II. In 1939 Poland\, Antonina &#379\;abi&#324\;ska (portrayed by two-time Academy Award nominee Jessica Chastain) and her husband\, Dr. Jan &#379\;abi&#324\;ski (Johan Heldenbergh)\, have the Warsaw Zoo flourishing under his stewardship and her care. When their country is invaded by the Nazis\, Jan and Antonina are stunned &ndash\; and forced to report to the Reich&rsquo\;s newly appointed chief zoologist\, Lutz Heck (Daniel Br&uuml\;hl). To fight back on their own terms\, Antonina and Jan covertly begin working with the Resistance &ndash\; and put into action plans to save lives out of what has become the Warsaw Ghetto\, with Antonina putting herself and even her children at great risk.</span></span></strong><strong><span style="color:#0035FF\;"><span style="font-family:arial\,sans-serif\;">&nbsp\;<a href="https://www.youtube.com/watch?v=eiEfrA6MWs4">https://www.youtube.com/watch?v=eiEfrA6MWs4</a></span></span></strong>
LOCATION:Wild Hog Saloon
UID:e.2678.82
SEQUENCE:3
DTSTAMP:20260421T110059Z
URL:https://business.phillipscountychamber.org/events/details/movie-night-at-wild-hog-saloon-82
END:VEVENT

END:VCALENDAR
