BEGIN:VCALENDAR
VERSION:2.0
PRODID:-//ChamberMaster//Event Calendar 2.0//EN
METHOD:PUBLISH
X-PUBLISHED-TTL:P3D
REFRESH-INTERVAL:P3D
CALSCALE:GREGORIAN
BEGIN:VEVENT
DTSTART:20171117T160000Z
DTEND:20171117T180000Z
X-MICROSOFT-CDO-ALLDAYEVENT:FALSE
SUMMARY:Naturalization Ceremony
DESCRIPTION:The public is invited to attend the Naturalization Ceremony in Helena at the Jacob Trieber United States Courthouse. Thirty immigrants from around the world will become citizens at this special event.
X-ALT-DESC;FMTTYPE=text/html:The public is invited to attend the Naturalization Ceremony in Helena at the Jacob&nbsp\;Trieber&nbsp\;United States Courthouse. Thirty immigrants from around the world will become&nbsp\;citizens&nbsp\;at this special event.
LOCATION:619 Walnut Street Helena
UID:e.2678.136
SEQUENCE:3
DTSTAMP:20260421T084703Z
URL:https://business.phillipscountychamber.org/events/details/naturalization-ceremony-136
END:VEVENT

END:VCALENDAR
