BEGIN:VCALENDAR
VERSION:2.0
PRODID:-//ChamberMaster//Event Calendar 2.0//EN
METHOD:PUBLISH
X-PUBLISHED-TTL:P3D
REFRESH-INTERVAL:P3D
CALSCALE:GREGORIAN
BEGIN:VEVENT
DTSTART:20170909T230000Z
DTEND:20170910T003000Z
X-MICROSOFT-CDO-ALLDAYEVENT:FALSE
SUMMARY:Opening Reception for Hometown Teams: How Sports Shape America
DESCRIPTION:This exhibit will celebrate sports and how they impact our culture. An opening reception is planned for Saturday\, September 9 at 6 p.m. Olympic medalist Kimberly Derrick will be in attendance.
X-ALT-DESC;FMTTYPE=text/html:This exhibit will celebrate sports and how they impact our culture. An opening reception is planned for Saturday\, September 9 at 6 p.m. Olympic medalist Kimberly Derrick will be in attendance.
LOCATION:Visitors Center\, 141 Cherry St.
UID:e.2678.52
SEQUENCE:3
DTSTAMP:20260421T105333Z
URL:https://business.phillipscountychamber.org/events/details/opening-reception-for-hometown-teams-how-sports-shape-america-52
END:VEVENT

END:VCALENDAR
