BEGIN:VCALENDAR
VERSION:2.0
PRODID:-//ChamberMaster//Event Calendar 2.0//EN
METHOD:PUBLISH
X-PUBLISHED-TTL:P3D
REFRESH-INTERVAL:P3D
CALSCALE:GREGORIAN
BEGIN:VEVENT
DTSTART:20171114T190000Z
DTEND:20171114T210000Z
X-MICROSOFT-CDO-ALLDAYEVENT:FALSE
SUMMARY:Phillips County Mobile Office
DESCRIPTION:Come visit with senator Boozman's staff during this walk-in event. Staff members will be available to help with problems you have involving any federal agency and to listen to your thoughts about legislative issues.
X-ALT-DESC;FMTTYPE=text/html:Come visit with senator Boozman&#39\;s staff during this walk-in event. Staff members will be available to help with problems you have involving any federal agency and to listen to your thoughts about legislative issues.
LOCATION:Family Center Food Bank of the Delta 586 PC 241 Road\, Lexa\, AR
UID:e.2678.125
SEQUENCE:3
DTSTAMP:20260421T081523Z
URL:https://business.phillipscountychamber.org/events/details/phillips-county-mobile-office-125
END:VEVENT

END:VCALENDAR
