BEGIN:VCALENDAR
VERSION:2.0
PRODID:-//ChamberMaster//Event Calendar 2.0//EN
METHOD:PUBLISH
X-PUBLISHED-TTL:P3D
REFRESH-INTERVAL:P3D
CALSCALE:GREGORIAN
BEGIN:VEVENT
DTSTART:20171105T210000Z
DTEND:20171105T230000Z
X-MICROSOFT-CDO-ALLDAYEVENT:FALSE
SUMMARY:Relay for Life Cancer Survivor Dinner
DESCRIPTION:Phillips County Relay for Life will  also have "2017 Survivors Dinner" at New Light Baptist Church at 522 Arkansas St. Helena\, AR 72342\, Sunday November 5 from 3-5pm.
X-ALT-DESC;FMTTYPE=text/html:Phillips County Relay for Life will &nbsp\;also have &quot\;2017 Survivors Dinner&quot\; at New Light Baptist Church at 522 Arkansas St. Helena\, AR 72342\, Sunday November 5 from 3-5pm.&nbsp\;
LOCATION:New Light Baptist Church 522 Arkansas Street
UID:e.2678.84
SEQUENCE:3
DTSTAMP:20260421T082128Z
URL:https://business.phillipscountychamber.org/events/details/relay-for-life-cancer-survivor-dinner-84
END:VEVENT

END:VCALENDAR
