BEGIN:VCALENDAR
VERSION:2.0
PRODID:-//ChamberMaster//Event Calendar 2.0//EN
METHOD:PUBLISH
X-PUBLISHED-TTL:P3D
REFRESH-INTERVAL:P3D
CALSCALE:GREGORIAN
BEGIN:VEVENT
DTSTART:20170805T143000Z
DTEND:20170805T170000Z
X-MICROSOFT-CDO-ALLDAYEVENT:FALSE
SUMMARY:School Supplies Saturday at Freeman Playground
DESCRIPTION:Start the morning off witha a fun Summer Saturday program from the Mu Chi Omega Chapter of Alpha Kappa Alpha\, followed by snacks\, drinks\, and school supplies!  Want to help? Help us Collect school supplies for School Supplies Saturday! Give new school supplies in the drop-off bins provided:\n\nUAMS East\n\n1393 Hwy 242 S.\, Helena\n\nAbsolute Care\n\n604 Oakland Ave\, Helena\n\nDelta Cultural Center\n\n141 Cherry Street\, Helena\n\n\n\nCan't drop-off school supplies \, but will love to donate:\n\nSend Check to:\n\nFreeman Foundation\n\nPO Box 342 Helena\, AR 72342\n\nAll donations are 100% tax deductible
X-ALT-DESC;FMTTYPE=text/html:Start the morning off witha a fun Summer Saturday program from the Mu Chi Omega Chapter of Alpha Kappa Alpha\, followed by snacks\, drinks\, and school supplies!&nbsp\; Want to help? Help us Collect school supplies for School Supplies Saturday! Give new school supplies in the drop-off bins provided:<br />\nUAMS&nbsp\;East<br />\n1393 Hwy 242 S.\, Helena<br />\nAbsolute Care<br />\n604 Oakland Ave\, Helena<br />\nDelta Cultural Center<br />\n141 Cherry Street\, Helena<br />\n<br />\nCan&#39\;t drop-off school supplies \, but will love to donate:<br />\nSend Check to:<br />\nFreeman Foundation<br />\nPO Box 342 Helena\, AR 72342<br />\nAll donations are 100% tax deductible
LOCATION:Freeman Playground 803 Beech Street\, behind the Pillow Thompson House Downtown\, Helena.
UID:e.2678.36
SEQUENCE:3
DTSTAMP:20260421T131943Z
URL:https://business.phillipscountychamber.org/events/details/school-supplies-saturday-at-freeman-playground-36
END:VEVENT

END:VCALENDAR
