BEGIN:VCALENDAR
VERSION:2.0
PRODID:-//ChamberMaster//Event Calendar 2.0//EN
METHOD:PUBLISH
X-PUBLISHED-TTL:P3D
REFRESH-INTERVAL:P3D
CALSCALE:GREGORIAN
BEGIN:VEVENT
DTSTART:20170916T150000Z
DTEND:20170916T170000Z
X-MICROSOFT-CDO-ALLDAYEVENT:FALSE
SUMMARY:Soap Suds Day at Freeman Playground
DESCRIPTION:Join us Saturday\, September 16th at 10am to SOAP UP and SCRUB DOWN Freeman Playground! Bring buckets\, dish soap\, soft brushes\, old toothbrushes and rags! Invite your friends! Youth groups! Scout groups! School groups! Work friends! Community groups! Sunday School classes and more! We will hose everything down when we are finished. Lets make the Freeman Playground sparkle! Thanks for your help! Lots of hands make happy work!
X-ALT-DESC;FMTTYPE=text/html:Join us Saturday\, September 16th at 10am to SOAP UP and SCRUB DOWN Freeman Playground! Bring buckets\, dish soap\, soft brushes\, old toothbrushes and rags! Invite your friends! Youth groups! Scout groups! School groups! Work friends! Community groups! Sunday School classes and more! We will hose everything down when we are finished. Lets make the Freeman Playground sparkle! Thanks for your help! Lots of hands make happy work!
LOCATION:803 Beech Helena\, AR 72342
UID:e.2678.66
SEQUENCE:3
DTSTAMP:20260421T105108Z
URL:https://business.phillipscountychamber.org/events/details/soap-suds-day-at-freeman-playground-66
END:VEVENT

END:VCALENDAR
