BEGIN:VCALENDAR
VERSION:2.0
PRODID:-//ChamberMaster//Event Calendar 2.0//EN
METHOD:PUBLISH
X-PUBLISHED-TTL:P3D
REFRESH-INTERVAL:P3D
CALSCALE:GREGORIAN
BEGIN:VEVENT
DTSTART:20170825T133000Z
DTEND:20170825T203000Z
X-MICROSOFT-CDO-ALLDAYEVENT:FALSE
SUMMARY:Startup Friday
DESCRIPTION:Join us for Startup Friday and learn how to start your business the right way. This event outlines the essential steps to start\, operate and finance a new business in one day. Key topics will include basic startup considerations\, writing a business plan\, marketing basics\, business financing options and choosing your legal structure. Lunch Included!
X-ALT-DESC;FMTTYPE=text/html:Join us for Startup Friday and learn how to start your business the right way. This event outlines the essential steps to start\, operate and finance a new business in one day. Key topics will include basic startup considerations\, writing a business plan\, marketing basics\, business financing options and choosing your legal structure. Lunch Included!
LOCATION:Phillips Community College of the University of Arkansas
UID:e.2678.47
SEQUENCE:3
DTSTAMP:20260421T115513Z
URL:https://business.phillipscountychamber.org/events/details/startup-friday-47
END:VEVENT

END:VCALENDAR
