BEGIN:VCALENDAR
VERSION:2.0
PRODID:-//ChamberMaster//Event Calendar 2.0//EN
METHOD:PUBLISH
X-PUBLISHED-TTL:P3D
REFRESH-INTERVAL:P3D
CALSCALE:GREGORIAN
BEGIN:VEVENT
DTSTART:20170915T000000Z
DTEND:20170915T020000Z
X-MICROSOFT-CDO-ALLDAYEVENT:FALSE
SUMMARY:StepAfrika!
DESCRIPTION:Warfield Concerts presents StepAfrika!
X-ALT-DESC;FMTTYPE=text/html:Warfield Concerts presents StepAfrika!
LOCATION:Lilly Peter Auditorium PCCUA 1000 Campus Drive Helena\, AR 72342
UID:e.2678.56
SEQUENCE:3
DTSTAMP:20260421T105015Z
URL:https://business.phillipscountychamber.org/events/details/stepafrika-56
END:VEVENT

END:VCALENDAR
