BEGIN:VCALENDAR
VERSION:2.0
PRODID:-//ChamberMaster//Event Calendar 2.0//EN
METHOD:PUBLISH
X-PUBLISHED-TTL:P3D
REFRESH-INTERVAL:P3D
CALSCALE:GREGORIAN
BEGIN:VEVENT
DTSTART:20170819T143000Z
DTEND:20170819T160000Z
X-MICROSOFT-CDO-ALLDAYEVENT:FALSE
SUMMARY:Summer Saturdays at the Freeman Playground
DESCRIPTION:June 3\, 2017 ? 10:30AM\n	June 10\, 2017 ? 10:30AM\n	June 17\, 2017 ? 10:30AM\n	June 24\, 2017 ? 10:30AM\n	July 1\, 2017 ? 10:30AM\n	July 8\, 2017 ? 10:30AM\n	July 15\, 2017 ? 10:30AM\n	July 22\, 2017 ? 10:30AM\n	July 29\, 2017 ? 10:30AM\n	August 5\, 2017 ? 10:30AM\n	August 12\, 2017 ? 10:30AM\n	August 19\, 2017 ? 10:30AM\n	August 26\, 2017 ? 10:30AM\n\n\n\nLocation: Freeman Playground 803 Beech Street\n\nSummer Saturdays at the Freeman Playground!\n\nIt's FREE!\n\n803 Beech Street\, corner of Beech and Market\, behind the Pillow-Thompson House.\n\nMeet your neighbors\, make new friends\, and learn lots of great new things!\n\nEvery Saturday in June\, July and August!\n\n10:30am-Noon at the Freeman Playground!\n\nBring the whole family for a fun\, interactive program hosted by a different local community group each Saturday morning!\n\nSnacks will be served.\n\nJune\n\n1st Sat.- Delta Cultural Center- Blues Program\n\n2nd Sat.-Faith Harvesters- Creation Story\n\n3rd Sat.- Delta Cultural Center- Steamboat Program\n\n4th Sat.- St. John's Episcopal- Cool Teeth Program\n\nJuly\n\n1st Sat.- H-WH Police Dept- Police Career Program\n\n2nd Sat.- Together For Hope\n\n3rd Sat.- Beautiful Zion Missionary Bapt Church\n\n4th Sat.- Havesting of Souls International\n\n5th Sat.- Faith Harvesters- Jonah and the Whale\n\nAugust\n\n1st Sat.- Mu Chi Omega Chapter AKA- STEM Program\n\n2nd Sat.- St. John's Episcopal\n\n3rd Sat.- Faith Harvesters- Noah's Ark\n\n4th Sat.- KIPP High School Choir- Music Program\n\nSee you this summer at Freeman Playground!!! Every Saturday in June\, July\, and August at 10:30am for Summer Saturdays and every Wednesday in July @ 10:30am for WILD Wednesdays!!!\n\nFor more information\, contact Misti Stanley at 770-490-9973
X-ALT-DESC;FMTTYPE=text/html:<h3 style="margin: 0px 0px 5px\; padding: 0px\; border: 0px\; outline: 0px\; font-size: 14px\; vertical-align: baseline\; background-image: initial\; background-position: initial\; background-size: initial\; background-repeat: initial\; background-attachment: initial\; background-origin: initial\; background-clip: initial\; color: rgb(0\, 0\, 0)\; font-family: Arial\, Helvetica\, sans-serif\;">&nbsp\;</h3>\n\n<ul style="margin: 0px 0px 0px 2px\; padding-right: 0px\; padding-left: 0px\; border: 0px\; outline: 0px\; vertical-align: baseline\; background: transparent\; list-style: square inside\;">\n	<li style="margin: 0px\; padding: 0px\; border: 0px\; outline: 0px\; vertical-align: baseline\; background: transparent\; list-style-position: inside\;">June 3\, 2017 ? 10:30AM</li>\n	<li style="margin: 0px\; padding: 0px\; border: 0px\; outline: 0px\; vertical-align: baseline\; background: transparent\; list-style-position: inside\;">June 10\, 2017 ? 10:30AM</li>\n	<li style="margin: 0px\; padding: 0px\; border: 0px\; outline: 0px\; vertical-align: baseline\; background: transparent\; list-style-position: inside\;">June 17\, 2017 ? 10:30AM</li>\n	<li style="margin: 0px\; padding: 0px\; border: 0px\; outline: 0px\; vertical-align: baseline\; background: transparent\; list-style-position: inside\;">June 24\, 2017 ? 10:30AM</li>\n	<li style="margin: 0px\; padding: 0px\; border: 0px\; outline: 0px\; vertical-align: baseline\; background: transparent\; list-style-position: inside\;">July 1\, 2017 ? 10:30AM</li>\n	<li style="margin: 0px\; padding: 0px\; border: 0px\; outline: 0px\; vertical-align: baseline\; background: transparent\; list-style-position: inside\;">July 8\, 2017 ? 10:30AM</li>\n	<li style="margin: 0px\; padding: 0px\; border: 0px\; outline: 0px\; vertical-align: baseline\; background: transparent\; list-style-position: inside\;">July 15\, 2017 ? 10:30AM</li>\n	<li style="margin: 0px\; padding: 0px\; border: 0px\; outline: 0px\; vertical-align: baseline\; background: transparent\; list-style-position: inside\;">July 22\, 2017 ? 10:30AM</li>\n	<li style="margin: 0px\; padding: 0px\; border: 0px\; outline: 0px\; vertical-align: baseline\; background: transparent\; list-style-position: inside\;">July 29\, 2017 ? 10:30AM</li>\n	<li style="margin: 0px\; padding: 0px\; border: 0px\; outline: 0px\; vertical-align: baseline\; background: transparent\; list-style-position: inside\;">August 5\, 2017 ? 10:30AM</li>\n	<li style="margin: 0px\; padding: 0px\; border: 0px\; outline: 0px\; vertical-align: baseline\; background: transparent\; list-style-position: inside\;">August 12\, 2017 ? 10:30AM</li>\n	<li style="margin: 0px\; padding: 0px\; border: 0px\; outline: 0px\; vertical-align: baseline\; background: transparent\; list-style-position: inside\;">August 19\, 2017 ? 10:30AM</li>\n	<li style="margin: 0px\; padding: 0px\; border: 0px\; outline: 0px\; vertical-align: baseline\; background: transparent\; list-style-position: inside\;">August 26\, 2017 ? 10:30AM</li>\n</ul>\n<br>\nLocation: Freeman Playground 803 Beech Street\n<div class="content" style="margin: 0px\; padding: 0px\; border: 0px\; outline: 0px\; font-size: 15px\; vertical-align: baseline\; background-image: initial\; background-position: initial\; background-size: initial\; background-repeat: initial\; background-attachment: initial\; background-origin: initial\; background-clip: initial\; color: rgb(0\, 0\, 0)\; font-family: Arial\, Helvetica\, sans-serif\;">\n<p style="margin: 0px\; padding: 0px\; border: 0px\; outline: 0px\; vertical-align: baseline\; background: transparent\;">Summer Saturdays at the Freeman Playground!<br>\nIt's FREE!<br>\n803 Beech Street\, corner of Beech and Market\, behind the Pillow-Thompson House.<br>\nMeet your neighbors\, make new friends\, and learn lots of great new things!</p>\n\n<p style="margin: 0px\; padding: 0px\; border: 0px\; outline: 0px\; vertical-align: baseline\; background: transparent\;">Every Saturday in June\, July and August!<br>\n10:30am-Noon at the Freeman Playground!</p>\n\n<p style="margin: 0px\; padding: 0px\; border: 0px\; outline: 0px\; vertical-align: baseline\; background: transparent\;">Bring the whole family for a fun\, interactive program hosted by a different local community group each Saturday morning!<br>\nSnacks will be served.</p>\n\n<p style="margin: 0px\; padding: 0px\; border: 0px\; outline: 0px\; vertical-align: baseline\; background: transparent\;">June<br>\n1st Sat.- Delta Cultural Center- Blues Program<br>\n2nd Sat.-Faith Harvesters- Creation Story<br>\n3rd Sat.- Delta Cultural Center- Steamboat Program<br>\n4th Sat.- St. John's Episcopal- Cool Teeth Program</p>\n\n<p style="margin: 0px\; padding: 0px\; border: 0px\; outline: 0px\; vertical-align: baseline\; background: transparent\;">July<br>\n1st Sat.- H-WH Police Dept- Police Career Program<br>\n2nd Sat.- Together For Hope<br>\n3rd Sat.- Beautiful Zion Missionary Bapt Church<br>\n4th Sat.- Havesting of Souls International<br>\n5th Sat.- Faith Harvesters- Jonah and the Whale</p>\n\n<p style="margin: 0px\; padding: 0px\; border: 0px\; outline: 0px\; vertical-align: baseline\; background: transparent\;">August<br>\n1st Sat.- Mu Chi Omega Chapter AKA- STEM Program<br>\n2nd Sat.- St. John's Episcopal<br>\n3rd Sat.- Faith Harvesters- Noah's Ark<br>\n4th Sat.- KIPP High School Choir- Music Program</p>\n\n<p style="margin: 0px\; padding: 0px\; border: 0px\; outline: 0px\; vertical-align: baseline\; background: transparent\;">See you this summer at Freeman Playground!!! Every Saturday in June\, July\, and August at 10:30am for Summer Saturdays and every Wednesday in July @ 10:30am for WILD Wednesdays!!!</p>\n\n<p style="margin: 0px\; padding: 0px\; border: 0px\; outline: 0px\; vertical-align: baseline\; background: transparent\;">For more information\, contact Misti Stanley at 770-490-9973</p>\n</div>\n
LOCATION:803 Beech Street\, corner of Beech and Market\, behind the Pillow-Thompson House.
UID:e.2678.24
SEQUENCE:3
DTSTAMP:20260421T115911Z
URL:https://business.phillipscountychamber.org/events/details/summer-saturdays-at-the-freeman-playground-08-19-2017-24
END:VEVENT

END:VCALENDAR
