BEGIN:VCALENDAR
VERSION:2.0
PRODID:-//ChamberMaster//Event Calendar 2.0//EN
METHOD:PUBLISH
X-PUBLISHED-TTL:P3D
REFRESH-INTERVAL:P3D
CALSCALE:GREGORIAN
BEGIN:VEVENT
DTSTART:20170917T153000Z
DTEND:20170918T043000Z
X-MICROSOFT-CDO-ALLDAYEVENT:FALSE
SUMMARY:The ARKANSAN'S Gospel Singers
DESCRIPTION:The Arkansans Gospel Singers will perform at the Helena First United Methodist Church. The Arkansans Singers were organized in 1971 for the purpose of spreading the Gospel in  song. Even though the members have changed from time to time\, the same devotion of each member is to sing God's Word and carry the Message in song all around the Country. Current members are Fred Hunter\, Paul Shucffield and Dale Richards. Rev. Mike Wilkie and the Helena First United Methodist Church invite you to attend this worship concert and receive a great blessing.
X-ALT-DESC;FMTTYPE=text/html:The Arkansans Gospel Singers will perform at the Helena First United Methodist Church. The Arkansans Singers were organized in 1971 for the purpose of spreading the Gospel in &nbsp\;song. Even though the members have changed from time to time\, the same devotion of each member is to sing God&#39\;s Word and carry the Message in song all around the Country. Current members are Fred Hunter\, Paul Shucffield and Dale Richards. Rev. Mike Wilkie and the Helena First United Methodist Church invite you to attend this worship concert and receive a great blessing.
LOCATION:502 Porter Street\, Helena\, AR 72342
UID:e.2678.50
SEQUENCE:3
DTSTAMP:20260421T105255Z
URL:https://business.phillipscountychamber.org/events/details/the-arkansan-s-gospel-singers-50
END:VEVENT

END:VCALENDAR
