BEGIN:VCALENDAR
VERSION:2.0
PRODID:-//ChamberMaster//Event Calendar 2.0//EN
METHOD:PUBLISH
X-PUBLISHED-TTL:P3D
REFRESH-INTERVAL:P3D
CALSCALE:GREGORIAN
BEGIN:VEVENT
DTSTART:20171121T000000Z
DTEND:20171121T020000Z
X-MICROSOFT-CDO-ALLDAYEVENT:FALSE
SUMMARY:Town Hall Meeting
DESCRIPTION:city officials will host Town Hall meeting on int he community Room of PCCUA for the purpose of discussing the new jail proposal scheduled for special election on December 12th. The public is invited and encouraged to attend
X-ALT-DESC;FMTTYPE=text/html:city officials will host Town Hall meeting on int he community Room of PCCUA for the purpose of discussing the new jail proposal scheduled for special election on December 12th. The public is invited and encouraged to attend
LOCATION:Community Room at PCCUA 1000 Campus Drive Helena\, AR
UID:e.2678.133
SEQUENCE:3
DTSTAMP:20260421T081902Z
URL:https://business.phillipscountychamber.org/events/details/town-hall-meeting-133
END:VEVENT

END:VCALENDAR
