BEGIN:VCALENDAR
VERSION:2.0
PRODID:-//ChamberMaster//Event Calendar 2.0//EN
METHOD:PUBLISH
X-PUBLISHED-TTL:P3D
REFRESH-INTERVAL:P3D
CALSCALE:GREGORIAN
BEGIN:VEVENT
DTSTART:20170905T220000Z
DTEND:20170906T030000Z
X-MICROSOFT-CDO-ALLDAYEVENT:FALSE
SUMMARY:Tri-County Fair
DESCRIPTION:Gates open at 5:00 pm. Ride armbands from 6:00 pm until close. Little Miss and Young Miss Pageant will being at 7:00 pm.
X-ALT-DESC;FMTTYPE=text/html:Gates open at 5:00 pm. Ride armbands from 6:00 pm until close. Little Miss and Young Miss Pageant will being at 7:00 pm.
LOCATION:Tri-County Fair Grounds Hwy 49 Marvell\, AR
UID:e.2678.58
SEQUENCE:3
DTSTAMP:20260421T105900Z
URL:https://business.phillipscountychamber.org/events/details/tri-county-fair-09-05-2017-58
END:VEVENT

END:VCALENDAR
