BEGIN:VCALENDAR
VERSION:2.0
PRODID:-//ChamberMaster//Event Calendar 2.0//EN
METHOD:PUBLISH
X-PUBLISHED-TTL:P3D
REFRESH-INTERVAL:P3D
CALSCALE:GREGORIAN
BEGIN:VEVENT
DTSTART:20170908T230000Z
DTEND:20170909T030000Z
X-MICROSOFT-CDO-ALLDAYEVENT:FALSE
SUMMARY:Tri-County Fair
DESCRIPTION:Ride Armbands 6:00 pm until close.
X-ALT-DESC;FMTTYPE=text/html:Ride Armbands 6:00 pm until close.
LOCATION:Tri-County Fair Grounds Hwy 49 Marvell\, AR
UID:e.2678.61
SEQUENCE:3
DTSTAMP:20260421T105052Z
URL:https://business.phillipscountychamber.org/events/details/tri-county-fair-09-08-2017-61
END:VEVENT

END:VCALENDAR
