BEGIN:VCALENDAR
VERSION:2.0
PRODID:-//ChamberMaster//Event Calendar 2.0//EN
METHOD:PUBLISH
X-PUBLISHED-TTL:P3D
REFRESH-INTERVAL:P3D
CALSCALE:GREGORIAN
BEGIN:VEVENT
DTSTART:20170904T170000Z
DTEND:20170905T040000Z
X-MICROSOFT-CDO-ALLDAYEVENT:FALSE
SUMMARY:Tri-County Fair
DESCRIPTION:Gates open at 12:00 pm with rides starting at 1:00 pm. Ride armbands from 1:00 - 6:00 pm and again from 6:00 pm until close. Beginning at 1:00 pm\, live music will consist of Live Wire Band\, Roadside Park\, and Elvis. The Junior and Senior Miss Tri Co Fair Pageant as well as the Demolition Derby will begin at 7:00 pm
X-ALT-DESC;FMTTYPE=text/html:Gates open at 12:00 pm with rides starting at 1:00 pm. Ride armbands from 1:00 - 6:00 pm and again from 6:00 pm until close. Beginning at 1:00 pm\, live music will consist of Live Wire Band\, Roadside Park\, and Elvis. The Junior and Senior Miss Tri Co Fair Pageant as well as the Demolition Derby will begin at 7:00 pm
LOCATION:Tri-County Fair Grounds Hwy 49 Marvell
UID:e.2678.57
SEQUENCE:3
DTSTAMP:20260421T104448Z
URL:https://business.phillipscountychamber.org/events/details/tri-county-fair-57
END:VEVENT

END:VCALENDAR
