BEGIN:VCALENDAR
VERSION:2.0
PRODID:-//ChamberMaster//Event Calendar 2.0//EN
METHOD:PUBLISH
X-PUBLISHED-TTL:P3D
REFRESH-INTERVAL:P3D
CALSCALE:GREGORIAN
BEGIN:VEVENT
DTSTART:20171012T140000Z
DTEND:20171012T203000Z
X-MICROSOFT-CDO-ALLDAYEVENT:FALSE
SUMMARY:UAMS Mamovan
DESCRIPTION:.
X-ALT-DESC;FMTTYPE=text/html:.
LOCATION:UAMS East Helena (1393 Hwy 242 South)
UID:e.2678.93
SEQUENCE:3
DTSTAMP:20260419T144034Z
URL:https://business.phillipscountychamber.org/events/details/uams-mamovan-93
END:VEVENT

END:VCALENDAR
