BEGIN:VCALENDAR
VERSION:2.0
PRODID:-//ChamberMaster//Event Calendar 2.0//EN
METHOD:PUBLISH
X-PUBLISHED-TTL:P3D
REFRESH-INTERVAL:P3D
CALSCALE:GREGORIAN
BEGIN:VEVENT
DTSTART:20170726T143000Z
DTEND:20170726T160000Z
X-MICROSOFT-CDO-ALLDAYEVENT:FALSE
SUMMARY:Wild Wednesdays at Freeman Playground with Mississippi River State Park
DESCRIPTION:Every Wednesday in July\, at 10:30am-Noon! At Freeman Playground- 803 Beech Street\, corner of Beech and Market\, behind the Pillow-Thompson House! Join us for the fun! It's WILD!!! And Free! Snacks provided!\n\n \n\nJuly 19th   Insects and More (this is during Latino Conservation week\, so we will add a little Spanish into the program)   Children will uncover what makes an insect and insect\, and determine if different critters we often refer to as bugs are indeed insects or not. We will look at their life cycles and color life cycle cards and practice putting them in the correct order.\n\n \n\nJuly 26th- Love'em and Leav'em - Wild baby animals are often left alone by their mothers for a reason. Don't make the mistake of "rescuing" baby wild animals. Children will learn why it is best to love and leave wild animals in their natural habitats.\n\n \n\nSee you this summer at Freeman Playground!!! Every Wednesday in July @ 10:30am for WILD Wednesdays and every Saturday in June\, July\, and August at 10:30am for Summer Saturdays!!!
X-ALT-DESC;FMTTYPE=text/html:<p style="margin: 0px\; padding: 0px\; border: 0px\; outline: 0px\; font-size: 15px\; vertical-align: baseline\; background-image: initial\; background-position: initial\; background-size: initial\; background-repeat: initial\; background-attachment: initial\; background-origin: initial\; background-clip: initial\; color: rgb(0\, 0\, 0)\; font-family: Arial\, Helvetica\, sans-serif\;">Every Wednesday in July\, at 10:30am-Noon! At Freeman Playground- 803 Beech Street\, corner of Beech and Market\, behind the Pillow-Thompson House! Join us for the fun! It&#39\;s WILD!!! And Free! Snacks provided!</p>\n\n<p style="margin: 0px\; padding: 0px\; border: 0px\; outline: 0px\; font-size: 15px\; vertical-align: baseline\; background-image: initial\; background-position: initial\; background-size: initial\; background-repeat: initial\; background-attachment: initial\; background-origin: initial\; background-clip: initial\; color: rgb(0\, 0\, 0)\; font-family: Arial\, Helvetica\, sans-serif\;">&nbsp\;</p>\n\n<p style="margin: 0px\; padding: 0px\; border: 0px\; outline: 0px\; font-size: 15px\; vertical-align: baseline\; background-image: initial\; background-position: initial\; background-size: initial\; background-repeat: initial\; background-attachment: initial\; background-origin: initial\; background-clip: initial\; color: rgb(0\, 0\, 0)\; font-family: Arial\, Helvetica\, sans-serif\;">July 19th &ndash\; Insects and More (this is during Latino Conservation week\, so we will add a little Spanish into the program) &ndash\; Children will uncover what makes an insect and insect\, and determine if different critters we often refer to as bugs are indeed insects or not. We will look at their life cycles and color life cycle cards and practice putting them in the correct order.</p>\n\n<p style="margin: 0px\; padding: 0px\; border: 0px\; outline: 0px\; font-size: 15px\; vertical-align: baseline\; background-image: initial\; background-position: initial\; background-size: initial\; background-repeat: initial\; background-attachment: initial\; background-origin: initial\; background-clip: initial\; color: rgb(0\, 0\, 0)\; font-family: Arial\, Helvetica\, sans-serif\;">&nbsp\;</p>\n\n<p style="margin: 0px\; padding: 0px\; border: 0px\; outline: 0px\; font-size: 15px\; vertical-align: baseline\; background-image: initial\; background-position: initial\; background-size: initial\; background-repeat: initial\; background-attachment: initial\; background-origin: initial\; background-clip: initial\; color: rgb(0\, 0\, 0)\; font-family: Arial\, Helvetica\, sans-serif\;">July 26th- Love&rsquo\;em and Leav&rsquo\;em - Wild baby animals are often left alone by their mothers for a reason. Don&#39\;t make the mistake of &quot\;rescuing&quot\; baby wild animals. Children will learn why it is best to love and leave wild animals in their natural habitats.</p>\n\n<p style="margin: 0px\; padding: 0px\; border: 0px\; outline: 0px\; font-size: 15px\; vertical-align: baseline\; background-image: initial\; background-position: initial\; background-size: initial\; background-repeat: initial\; background-attachment: initial\; background-origin: initial\; background-clip: initial\; color: rgb(0\, 0\, 0)\; font-family: Arial\, Helvetica\, sans-serif\;">&nbsp\;</p>\n\n<p style="margin: 0px\; padding: 0px\; border: 0px\; outline: 0px\; font-size: 15px\; vertical-align: baseline\; background-image: initial\; background-position: initial\; background-size: initial\; background-repeat: initial\; background-attachment: initial\; background-origin: initial\; background-clip: initial\; color: rgb(0\, 0\, 0)\; font-family: Arial\, Helvetica\, sans-serif\;">See you this summer at Freeman Playground!!! Every Wednesday in July @ 10:30am for WILD Wednesdays and every Saturday in June\, July\, and August at 10:30am for Summer Saturdays!!!</p>\n
LOCATION:Freeman Playground 803 Beech Street
UID:e.2678.12
SEQUENCE:3
DTSTAMP:20260421T132221Z
URL:https://business.phillipscountychamber.org/events/details/wild-wednesdays-at-freeman-playground-with-mississippi-river-state-park-07-26-2017-12
END:VEVENT

END:VCALENDAR
